BEGIN:VCALENDAR
VERSION:2.0
PRODID:-//Dr Julie Bhosale - ECPv4.3.2//NONSGML v1.0//EN
CALSCALE:GREGORIAN
METHOD:PUBLISH
X-WR-CALNAME:Dr Julie Bhosale
X-ORIGINAL-URL:https://juliebhosale.co.nz
X-WR-CALDESC:Events for Dr Julie Bhosale
BEGIN:VEVENT
DTSTART;TZID=Pacific/Auckland:20190208T080000
DTEND;TZID=Pacific/Auckland:20190210T170000
DTSTAMP:20181219T070422
CREATED:20180417T065326Z
LAST-MODIFIED:20180417T065326Z
UID:6685-1549612800-1549818000@juliebhosale.co.nz
SUMMARY:Working Mums Retreat - Summer 2019
DESCRIPTION:Always super popular Dr Julie Bhosale's summer retreat has been set (May and Nov in 2018 have sold out already). Three days of peace\, sleep\, nourishing food and creative space to write and work hosted and organised by Dr Julie Bhosale.\n\nSummer retreat from Friday Feb 8th 2018 – Sunday Feb 10th in Matakana.\n\nTotal cost includes stay for two nights\, three days and all food/coffee/drinks provided.\n\nNote – Spaces limited to three people so be in quick as these always book quickly.\n\nhttps://juliebhosale.co.nz/product/working-mums-retreat/\n\nThe Inspiration:\n\nAs a working mum who has written her Doctoral thesis and two published books while having two young boys (literally giving birth during this time!)\, Dr Julie knows without absolute certainly the importance and benefit of having a quiet space to work with full nights sleep. Doing periods of work in this way was key to completing her thesis and books. To quote “I would get more work done in three days then I would in an entire month”.\n\nShe also knows how challenging it can be to take the time and also the financial considerations with this too. This is why she organises these retreats three times a year (Summer\, Winter and Pre-Christmas) in small groups\, cooking and providing all the food herself to keep the cost as low as possible.\n\nHow it Works:\n\nThis is not a structured retreat. There is no organised activities or daily requirements – this time is literally yours to use for what you need. If you want to get up really early and do a block of writing you can. If you need some creative space to think and plan there is plenty of quiet areas indoors and outdoors. You can even have an afternoon nap when you like! Away from the distractions and demands of everyday live you will have so much space and energy to get out a huge amount of work.\n\nFood:\n\nAll food is designed\, arranged and cooked by Dr Julie – so you can trust it is nourishing and healthy! Can you remember the last time you had dinner cooked for you? The meal times will be loosely structured for ease of organisation but breakfast options are provided to be helped to when you like\, lunch is designed to be eaten at a later stage if you get on a roll with work. Dinner does tend to all be eaten together as this is a natural time to talk as a group. An evening wine is also included (however if you have a strict deadline to meet this is still optional).\n\nSleep:\n\nThis is crucial. Dr Julie knows that potentially you have not had a deep\, full nights sleep since having children. You will have your own room at the retreat and there is no need to go to bed at a certain time or wake up at a certain time.\n\nSupport:\n\nThis is a fantastic opportunity to meet other working mums\, network\, hear of some of the challenges and strategies that work for others in juggling work/business and motherhood. In addition you will also get to meet and talk with Dr Julie herself!\n\nAll details and to book just click below!\n\nhttps://juliebhosale.co.nz/product/working-mums-retreat/
URL:https://juliebhosale.co.nz/event/working-mums-retreat-summer-2019/
ATTACH;FMTTYPE=image/jpeg:https://juliebhosale.co.nz/wp-content/uploads/2017/12/working-mums-retreat-auckland.jpg
END:VEVENT
END:VCALENDAR